BEGIN:VCALENDAR
VERSION:2.0
PRODID:-//hacksw/handcal//NONSGML v1.0//EN
BEGIN:VEVENT
DTSTART:20260425
DTEND:20260427
LOCATION:Rosselange
SUMMARY:Une Rose Un Espoir 
DESCRIPTION:https://www.rosselange.fr/Agenda/Une-Rose-Un-Espoir-00411.html
END:VEVENT
END:VCALENDAR